BEGIN:VCALENDAR
VERSION:2.0
PRODID:-//Orlov Chess Academy - ECPv6.15.11//NONSGML v1.0//EN
CALSCALE:GREGORIAN
METHOD:PUBLISH
X-WR-CALNAME:Orlov Chess Academy
X-ORIGINAL-URL:https://chessplayer.com
X-WR-CALDESC:Events for Orlov Chess Academy
REFRESH-INTERVAL;VALUE=DURATION:PT1H
X-Robots-Tag:noindex
X-PUBLISHED-TTL:PT1H
BEGIN:VTIMEZONE
TZID:UTC
BEGIN:STANDARD
TZOFFSETFROM:+0000
TZOFFSETTO:+0000
TZNAME:UTC
DTSTART:20220101T000000
END:STANDARD
END:VTIMEZONE
BEGIN:VEVENT
DTSTART;TZID=UTC:20230222T083000
DTEND;TZID=UTC:20230222T150000
DTSTAMP:20260425T091505
CREATED:20230111T152223Z
LAST-MODIFIED:20251230T184542Z
UID:10001512-1677054600-1677078000@chessplayer.com
SUMMARY:Mid-Winter Break 2 – Redmond 2023
DESCRIPTION:Come join us for four glorious days of Mid-Winter Break! Bellevue School District has the whole week off around President’s Day; we hold this camp on Tuesday through Friday. Here’s another awesome chance to get ahead of your chess friends in the 2023 chess season. \nLessons in the morning and afternoon\, tournament games with the game review\, chess puzzles\, chess movies! Students are divided into groups by skill level. \nOpen to all students in grades K-8\, from Beginners to Advanced.\nWe love beginners\, however knowing how the pieces move is required. To learn the moves\, the ChessKid videos how to play chess and an introduction to chess are very helpful! \nLocations\nRedmond: Orlov Chess Academy\,   4174 148th Ave NE\, Building I Suite M\, Redmond\, WA 98052 \nDates: Flexible!\nThis camp is a four-day series\, Tuesday through Friday.\nChoose your days in any combination: February 20 – 24\nPlease specify your dates in comments section when registering online.\nOr choose half days\, AM or PM sessions\, minimum two. \nDaily Schedule\nNote: This camp has slightly different hours than most of our other camps.\nArrival and check-in begins at 8:30 am\nLessons start promptly at 9:00 am\nThere are scheduled breaks throughout the day.\nLunch 11:15 to 12:15 pm.\nPlease bring your lunch and snacks! No peanut-based food\, please!\nIn the afternoon students play games with game analysis provided.\nPickup by 3:00 pm.\nAfter-camp care is available upon advanced request\, $16/hour additional charge. \nHalf Days Available\nWe also offer half day attendance!\n$45 each for half-day\, minimum two half-days. \nCost\n  \n\n\n\n\n2 days\n$72.50 each\n\n\n3 days\n$66 each\n\n\n4 or 5 days\n$64 each\n\n\nHalf days\n$45 each\n\n\n\n\n10% discount for siblings with coupon code SIBLINGS.\nWe accept Visa and MasterCard.\nAdvance registration is required! Please register early.\nPlease enter which days you will attend in the form below.
URL:https://chessplayer.com/event/mid-winter-break-2-redmond-2023/2023-02-22/
LOCATION:Redmond\, 4174 148th Ave NE\, Building I\, Suite M\, Redmond\, WA\, 98052\, United States
CATEGORIES:Camps,Redmond
ATTACH;FMTTYPE=image/jpeg:https://chessplayer.com/wp-content/uploads/2022/12/redmond.jpg
END:VEVENT
BEGIN:VEVENT
DTSTART;TZID=UTC:20230222T084500
DTEND;TZID=UTC:20230222T153000
DTSTAMP:20260425T091505
CREATED:20230202T215908Z
LAST-MODIFIED:20251230T184506Z
UID:10001931-1677055500-1677079800@chessplayer.com
SUMMARY:Mid-Winter Break – Green Lake 2023
DESCRIPTION:
URL:https://chessplayer.com/event/mid-winter-break-green-lake-2023/2023-02-22/
LOCATION:Green Lake\, 7212 Woodlawn Ave NE\, Seattle\, WA\, 98115\, United States
CATEGORIES:Camps,Green Lake
ATTACH;FMTTYPE=image/jpeg:https://chessplayer.com/wp-content/uploads/2022/12/greenlake.jpg
END:VEVENT
BEGIN:VEVENT
DTSTART;TZID=UTC:20230222T174500
DTEND;TZID=UTC:20230222T184500
DTSTAMP:20260425T091505
CREATED:20230102T123408Z
LAST-MODIFIED:20230226T063910Z
UID:10000908-1677087900-1677091500@chessplayer.com
SUMMARY:Orlov Intermediate Wednesday\, Redmond
DESCRIPTION:Wednesday Intermediate Classes in Redmond\nA weekly class in person on Wednesdays by IM Georgi Orlov. \nThis class is designed for Intermediate level players and is very helpful for tournament players. Is this class for you? Click to read about how to choose classes. \nIn Person! This Wednesday class is held in person in our Redmond office at normal capacity. \nWe encourage all our intermediate students to create a free Chess.com account and join our Orlov Academy club. They offer puzzles\, games and our friendly online club tournaments. \nThanks\, Coach Orlov\n206-387-1253 \nRegister\n\nBookings are closed for this event
URL:https://chessplayer.com/event/intermediate-class-with-georgi-orlov-8/
LOCATION:Redmond\, 4174 148th Ave NE\, Building I\, Suite M\, Redmond\, WA\, 98052\, United States
CATEGORIES:Classes,Intermediate,Redmond
ATTACH;FMTTYPE=image/png:https://chessplayer.com/wp-content/uploads/2022/12/georgi-orlov-NWC_201107_cover.png
END:VEVENT
END:VCALENDAR