BEGIN:VCALENDAR
VERSION:2.0
PRODID:-//Orlov Chess Academy - ECPv6.15.11//NONSGML v1.0//EN
CALSCALE:GREGORIAN
METHOD:PUBLISH
X-ORIGINAL-URL:https://chessplayer.com
X-WR-CALDESC:Events for Orlov Chess Academy
REFRESH-INTERVAL;VALUE=DURATION:PT1H
X-Robots-Tag:noindex
X-PUBLISHED-TTL:PT1H
BEGIN:VTIMEZONE
TZID:America/Los_Angeles
BEGIN:DAYLIGHT
TZOFFSETFROM:-0800
TZOFFSETTO:-0700
TZNAME:PDT
DTSTART:20240310T100000
END:DAYLIGHT
BEGIN:STANDARD
TZOFFSETFROM:-0700
TZOFFSETTO:-0800
TZNAME:PST
DTSTART:20241103T090000
END:STANDARD
BEGIN:DAYLIGHT
TZOFFSETFROM:-0800
TZOFFSETTO:-0700
TZNAME:PDT
DTSTART:20250309T100000
END:DAYLIGHT
BEGIN:STANDARD
TZOFFSETFROM:-0700
TZOFFSETTO:-0800
TZNAME:PST
DTSTART:20251102T090000
END:STANDARD
BEGIN:DAYLIGHT
TZOFFSETFROM:-0800
TZOFFSETTO:-0700
TZNAME:PDT
DTSTART:20260308T100000
END:DAYLIGHT
BEGIN:STANDARD
TZOFFSETFROM:-0700
TZOFFSETTO:-0800
TZNAME:PST
DTSTART:20261101T090000
END:STANDARD
END:VTIMEZONE
BEGIN:VEVENT
DTSTART;TZID=America/Los_Angeles:20251215T143000
DTEND;TZID=America/Los_Angeles:20251215T160000
DTSTAMP:20260425T095237
CREATED:20250819T213803Z
LAST-MODIFIED:20250828T145009Z
UID:10006658-1765809000-1765814400@chessplayer.com
SUMMARY:Cascadia Monday Chess\, Fall 2025
DESCRIPTION:Grades: 2-5 for those who have a little more chess experience. \nSignups begin on Sept 15th.\nJoin Cascadia Elementary Chess Club!\nLearn tactics and strategies of chess\, solve chess puzzles and play chess with your friends! \nEach class will begin with a chess lesson\, with the instructor introducing a chess subject to the students. Subjects include opening strategy\, chess tactics\, checkmating patterns\, and more. After that\, chess puzzles will be offered\, and students will finish the class with playing time. They may play with their friends or the coach will assign games per skill level. \nChess Club with 1994 US Open Champion IM Georgi Orlov\, USCF 2500\nKnowledge of chess moves and rules is required.\nTo get started\, the ChessKid videos here and here are very helpful! \nWhere: Room tbd\nWhen: Fall Series on Mondays 2:30 – 4:00 pm\n\n\n\nOctober\n6\n13\n20\n27\n\n\nNovember\n3\n10\n17\n*\n\n\nDecember\n1\n8\n15\n.\n\n\n* No class the week of Thanksgiving\n\n\n\nCost: $240 for 10 classes\nTo register\, buy a Series Pass here on this same web page. \nRefunds through 2nd class\, cancellation fee $37\, no refunds after.\nMinimum of 8 students to hold class\, max 18 students. \nChess class questions to: info@chessplayer.com\, 206-387-1253
URL:https://chessplayer.com/event/cascadia-monday-fall-2025/2025-12-15/
LOCATION:Cascadia Elementary\, 1700 N 90th St\, Seattle\, WA\, 98103
CATEGORIES:After-School Clubs
ATTACH;FMTTYPE=image/jpeg:https://chessplayer.com/wp-content/uploads/2022/12/2010-03-13-Bear-Creek-Elem-02239.jpg
END:VEVENT
BEGIN:VEVENT
DTSTART;TZID=America/Los_Angeles:20251215T174500
DTEND;TZID=America/Los_Angeles:20251215T184500
DTSTAMP:20260425T095237
CREATED:20251018T200016Z
LAST-MODIFIED:20251018T200016Z
UID:10006949-1765820700-1765824300@chessplayer.com
SUMMARY:Orlov Intermediate Monday\, Redmond
DESCRIPTION:We’ll hold this class when we have four interested students. Does Monday 5:45 pm work for you? Please email Coach Georgi Orlov at info@chessplayer.com to show interest and be on the wait list. \nMonday Intermediate Classes in Redmond\nA weekly class in person on Mondays by IM Georgi Orlov. \nThis class is designed for Intermediate level players (rating 1100 NW+ or 900+ USCF) and is very helpful for tournament players. Is this class for you? Click to read about how to choose classes. \nWe encourage all our intermediate students to create a free Chess.com account and join our Orlov Academy club. They offer puzzles\, games and our friendly online club tournaments. \nThanks\, Coach Orlov
URL:https://chessplayer.com/event/orlov-intermediate-monday-12-15/
LOCATION:Redmond\, 4174 148th Ave NE\, Building I\, Suite M\, Redmond\, WA\, 98052\, United States
CATEGORIES:Classes,Intermediate,Redmond
ATTACH;FMTTYPE=image/png:https://chessplayer.com/wp-content/uploads/2022/12/georgi-orlov-NWC_201107_cover.png
END:VEVENT
BEGIN:VEVENT
DTSTART;TZID=America/Los_Angeles:20251215T180000
DTEND;TZID=America/Los_Angeles:20251215T184500
DTSTAMP:20260425T095237
CREATED:20251018T232417Z
LAST-MODIFIED:20251018T232417Z
UID:10006982-1765821600-1765824300@chessplayer.com
SUMMARY:Josh Beginner Monday\, Green Lake
DESCRIPTION:Monday Beginner Class in Seattle\nA weekly class on Monday afternoons by NM Joshua Sinanan. \nStudents learn sportsmanship\, how to play with a clock\, record their games\, solid opening plays\, and much more! \nBeginners class is best for those with ratings 500 to 700.\nBooster class is ideal for ratings 700 to 1100.\nIntermediate class is best for ratings up to 1100+ and up.\nIs this class for you? Click to read about how to choose classes. \nIn Person! This Monday class is held in person in our Green Lake office at regular capacity. \nWe encourage students to create a free ChessKid.com account to play and practice between lessons! \nThanks\, Coach Josh
URL:https://chessplayer.com/event/josh-beginner-monday-12-15/
LOCATION:Green Lake\, 7212 Woodlawn Ave NE\, Seattle\, WA\, 98115\, United States
CATEGORIES:Beginner,Classes,Green Lake
ATTACH;FMTTYPE=image/jpeg:https://chessplayer.com/wp-content/uploads/2022/12/Joshua-Sinanan-DSC_1113HQ.jpg
END:VEVENT
BEGIN:VEVENT
DTSTART;TZID=America/Los_Angeles:20251215T184500
DTEND;TZID=America/Los_Angeles:20251215T194500
DTSTAMP:20260425T095237
CREATED:20251018T233932Z
LAST-MODIFIED:20251018T233932Z
UID:10006990-1765824300-1765827900@chessplayer.com
SUMMARY:Josh Intermediate Monday\, Green Lake
DESCRIPTION:Monday Intermediate Classes in Seattle\nA weekly in-person class on Mondays by NM Joshua Sinanan. \nThis class is designed for Intermediate level players and is very helpful for tournament players. Is this class for you? Click to read about how to choose classes. \nWe encourage all our intermediate students to create a free Chess.com account and join our Orlov Academy club. They offer puzzles\, games and our friendly online club tournaments. \nThanks\, Coach Josh
URL:https://chessplayer.com/event/josh-intermediate-monday-12-15/
LOCATION:Green Lake\, 7212 Woodlawn Ave NE\, Seattle\, WA\, 98115\, United States
CATEGORIES:Classes,Green Lake,Intermediate
ATTACH;FMTTYPE=image/jpeg:https://chessplayer.com/wp-content/uploads/2023/03/Josh-Sinanan-bio-MJ2A7538.jpg
END:VEVENT
END:VCALENDAR