BEGIN:VCALENDAR
VERSION:2.0
PRODID:-//Orlov Chess Academy - ECPv6.15.11//NONSGML v1.0//EN
CALSCALE:GREGORIAN
METHOD:PUBLISH
X-ORIGINAL-URL:https://chessplayer.com
X-WR-CALDESC:Events for Orlov Chess Academy
REFRESH-INTERVAL;VALUE=DURATION:PT1H
X-Robots-Tag:noindex
X-PUBLISHED-TTL:PT1H
BEGIN:VTIMEZONE
TZID:America/Los_Angeles
BEGIN:DAYLIGHT
TZOFFSETFROM:-0800
TZOFFSETTO:-0700
TZNAME:PDT
DTSTART:20230312T100000
END:DAYLIGHT
BEGIN:STANDARD
TZOFFSETFROM:-0700
TZOFFSETTO:-0800
TZNAME:PST
DTSTART:20231105T090000
END:STANDARD
BEGIN:DAYLIGHT
TZOFFSETFROM:-0800
TZOFFSETTO:-0700
TZNAME:PDT
DTSTART:20240310T100000
END:DAYLIGHT
BEGIN:STANDARD
TZOFFSETFROM:-0700
TZOFFSETTO:-0800
TZNAME:PST
DTSTART:20241103T090000
END:STANDARD
BEGIN:DAYLIGHT
TZOFFSETFROM:-0800
TZOFFSETTO:-0700
TZNAME:PDT
DTSTART:20250309T100000
END:DAYLIGHT
BEGIN:STANDARD
TZOFFSETFROM:-0700
TZOFFSETTO:-0800
TZNAME:PST
DTSTART:20251102T090000
END:STANDARD
END:VTIMEZONE
BEGIN:VEVENT
DTSTART;TZID=America/Los_Angeles:20240313T140000
DTEND;TZID=America/Los_Angeles:20240313T150000
DTSTAMP:20260425T191840
CREATED:20240218T191110Z
LAST-MODIFIED:20250815T143644Z
UID:10004536-1710338400-1710342000@chessplayer.com
SUMMARY:St. Benedict Spring 2024
DESCRIPTION:Grades: 1-5\nAfter-school instructional chess club at St. Benedict Catholic School.\nKnowledge of chess moves and rules is required.\nTo get started in chess\, the ChessKid videos here and here are very helpful!\nStudents will be paired by age and ability as appropriate. \nWhen: 2:00 – 3:00 pm Wednesdays\nRoom: Auditorium\nCoach: Josh Sinanan \nWinter Series: 10 Classes!\nMarch 13\, 20\, 27\nApril 10\, 17\, 24 (no class 4/3)\nMay 1\, 15\, 22\, 29 (no class 5/8) \nCost: $197.50 for 10 classes. Register your child in advance!\nClick here to register. \nRefunds through 2nd class\, cancellation fee $35\, no refunds after.\nMinimum of 8 students to hold class\, max 20 students.\nSign up today and register your student in advance!\nChess class questions to: info@chessplayer.com\, 206-387-1253
URL:https://chessplayer.com/event/st-benedict-spring-2024/2024-03-13/
LOCATION:St. Benedict Catholic School\, 4811 Wallingford Ave N\, Seattle\, WA\, 98103\, United States
CATEGORIES:After-School Clubs
ATTACH;FMTTYPE=image/png:https://chessplayer.com/wp-content/uploads/2023/11/st-benedict-school-logo.png
END:VEVENT
END:VCALENDAR