BEGIN:VCALENDAR
VERSION:2.0
PRODID:-//Orlov Chess Academy - ECPv6.15.11//NONSGML v1.0//EN
CALSCALE:GREGORIAN
METHOD:PUBLISH
X-WR-CALNAME:Orlov Chess Academy
X-ORIGINAL-URL:https://chessplayer.com
X-WR-CALDESC:Events for Orlov Chess Academy
REFRESH-INTERVAL;VALUE=DURATION:PT1H
X-Robots-Tag:noindex
X-PUBLISHED-TTL:PT1H
BEGIN:VTIMEZONE
TZID:UTC
BEGIN:STANDARD
TZOFFSETFROM:+0000
TZOFFSETTO:+0000
TZNAME:UTC
DTSTART:20230101T000000
END:STANDARD
END:VTIMEZONE
BEGIN:VEVENT
DTSTART;TZID=UTC:20240920T173000
DTEND;TZID=UTC:20240920T183000
DTSTAMP:20260422T152812
CREATED:20240812T152149Z
LAST-MODIFIED:20240920T143632Z
UID:10004961-1726853400-1726857000@chessplayer.com
SUMMARY:Orlov Intermediate Friday *canceled*
DESCRIPTION:Friday Intermediate Class **canceled**\nThis series of Friday Zoom classes has ended\, effective today. Please consider enrolling in our new Monday Intermediate Chess classes\, thank you \nThis class is designed for Intermediate level players and is very helpful for tournament players. Is this class for you? See how to choose classes. \nWe teach powerful chess tools to get ahead in the game: \n\nStrategy lessons and cool openings\nTactics\nHomework\n\nThanks\, Coach Orlov\n206-387-1253
URL:https://chessplayer.com/event/friday-zoom-09-20/
LOCATION:Online
CATEGORIES:Classes,Intermediate,Online,Redmond
ATTACH;FMTTYPE=image/png:https://chessplayer.com/wp-content/uploads/2022/12/georgi-orlov-NWC_201107_cover.png
END:VEVENT
END:VCALENDAR