BEGIN:VCALENDAR
VERSION:2.0
PRODID:-//Orlov Chess Academy - ECPv6.15.11//NONSGML v1.0//EN
CALSCALE:GREGORIAN
METHOD:PUBLISH
X-ORIGINAL-URL:https://chessplayer.com
X-WR-CALDESC:Events for Orlov Chess Academy
REFRESH-INTERVAL;VALUE=DURATION:PT1H
X-Robots-Tag:noindex
X-PUBLISHED-TTL:PT1H
BEGIN:VTIMEZONE
TZID:UTC
BEGIN:STANDARD
TZOFFSETFROM:+0000
TZOFFSETTO:+0000
TZNAME:UTC
DTSTART:20220101T000000
END:STANDARD
END:VTIMEZONE
BEGIN:VEVENT
DTSTART;TZID=UTC:20230614T174500
DTEND;TZID=UTC:20230614T184500
DTSTAMP:20260422T024246
CREATED:20230403T010411Z
LAST-MODIFIED:20230614T122554Z
UID:10003208-1686764700-1686768300@chessplayer.com
SUMMARY:Orlov Intermediate Wednesday (Zoom Today!)
DESCRIPTION:Wednesday Intermediate Class is on Zoom\, June 14th\nDue to travel\, I will hold today’s June 14th class via Zoom.\n\nZoom Topic: Orlov Chess Academy Intermediate Wednesday\nTime: June 14th at 5:45 – 6:45 PM Pacific\nJoin Meeting:  zoom.us/j/8647353754\nMeeting ID:  864 735 3754\n\nThis class is designed for Intermediate level players and is very helpful for tournament players. \nWe encourage all our intermediate students to create a free Chess.com account and join our Orlov Academy club. They offer puzzles\, games and our friendly online club tournaments. \nThanks\, Coach Orlov
URL:https://chessplayer.com/event/orlov-intermediate-wednesday-06-14/
LOCATION:Redmond\, 4174 148th Ave NE\, Building I\, Suite M\, Redmond\, WA\, 98052\, United States
CATEGORIES:Classes,Intermediate,Redmond
ATTACH;FMTTYPE=image/png:https://chessplayer.com/wp-content/uploads/2022/12/georgi-orlov-NWC_201107_cover.png
END:VEVENT
END:VCALENDAR