BEGIN:VCALENDAR
VERSION:2.0
PRODID:-//Orlov Chess Academy - ECPv6.15.11//NONSGML v1.0//EN
CALSCALE:GREGORIAN
METHOD:PUBLISH
X-WR-CALNAME:Orlov Chess Academy
X-ORIGINAL-URL:https://chessplayer.com
X-WR-CALDESC:Events for Orlov Chess Academy
REFRESH-INTERVAL;VALUE=DURATION:PT1H
X-Robots-Tag:noindex
X-PUBLISHED-TTL:PT1H
BEGIN:VTIMEZONE
TZID:UTC
BEGIN:STANDARD
TZOFFSETFROM:+0000
TZOFFSETTO:+0000
TZNAME:UTC
DTSTART:20220101T000000
END:STANDARD
END:VTIMEZONE
BEGIN:VEVENT
DTSTART;TZID=UTC:20230710T083000
DTEND;TZID=UTC:20230710T150000
DTSTAMP:20260420T162504
CREATED:20230226T034656Z
LAST-MODIFIED:20230514T025659Z
UID:10002326-1688977800-1689001200@chessplayer.com
SUMMARY:July Camp Four\, Grandmaster Camp\, Redmond
DESCRIPTION:Welcome back! This GM camp is held in person in our Academy office space at regular capacity\, \nGM Yermolinsky\, 2-time US Champion\, in attendance\nThis camp is recommended for students rated 1000+ USCF or 1100+ NWSRS rating. \nGrandmaster Alex Yermolinsky is a well-known US chess player\, established online chess commentator\, analyst and popular chess coach who worked in many scholastic chess camps around the country. He brings years of teaching experience and chess knowledge\, now in-person in Redmond! \nThis camp features tournament games analyzed by a Chess Grand Master. Also middlegame and endgame topics will be covered. Other activities include solving fun chess puzzles\, learning cool openings\, solving tricky tactics\, mastering fundamental endgames\, and playing casual games between students! We may separate into a second group with its own coach if the skill levels and ages require it and there are enough students. \nEarly bird discount 5% if you register by May 1st. \nAll camps are attended or conducted by International Master Georgi Orlov\, 1994 US Open Champion\, USCF Rated 2540\, with a 4-Year Chess Education degree from Moscow\, Russia. \nLocations\nOur 2023 Grand Master camp is held in our Redmond office.\nRedmond: Orlov Chess Academy\,   4174 148th Ave NE\, Building I Suite M\,  Redmond\, WA 98052 \nDates: Flexible!\nThis summer camp is a five-day series\, Monday – Friday.\nChoose two or more full days in any combination: July 10 – 14.\nOr choose two or more half-day sessions for this Grand Master camp.\nPlease specify your dates in comments section when registering online.\nRegister early\, space is limited to 18 in Redmond. \nSee our complete Green Lake Camps calendar and our Redmond Camps. \nPurchase\nClick here to reserve your days. \nDaily Schedule\nArrival and check-in begins at 8:30 am\nLessons start promptly at 9:00 am\nThere are scheduled breaks throughout the day.\nLunch 11:15 to 12:15 pm.\nPlease bring your lunch and snacks! No peanut-based food\, please.\nIn the afternoon students play games with game analysis provided.\nPickup by 3:00 pm.\nAfter-camp care is available upon advanced request\, $16/hour additional charge. \nChess Camp Questions: info@chessplayer.com or call Georgi 206-387-1253 \nPrice\nPlease note: Advance registration is required.\nWe accept Visa\, MasterCard and American Express. Please register early.\nCancellation fee $29\, please give us 72-hour notice required.\nEarly bird 5% discount by registering by May 1st.\nAdditional 10% discount for siblings.\nFive days before camp begins\, price increases by 5%.\nPrices subject to change without notice. \n\n\n\n\nHalf day\n$47 each (min 2)\n\n\n2 days\n$74.50 each\n\n\n3 days\n$70 each\n\n\n4 days\n$68 each\n\n\n5 days\n$66 each
URL:https://chessplayer.com/event/july-camp-four-redmond/2023-07-10/
LOCATION:Redmond\, 4174 148th Ave NE\, Building I\, Suite M\, Redmond\, WA\, 98052\, United States
CATEGORIES:Camps,Redmond
ATTACH;FMTTYPE=image/jpeg:https://chessplayer.com/wp-content/uploads/2022/12/redmond.jpg
END:VEVENT
END:VCALENDAR