BEGIN:VCALENDAR
VERSION:2.0
PRODID:-//Orlov Chess Academy - ECPv6.15.11//NONSGML v1.0//EN
CALSCALE:GREGORIAN
METHOD:PUBLISH
X-ORIGINAL-URL:https://chessplayer.com
X-WR-CALDESC:Events for Orlov Chess Academy
REFRESH-INTERVAL;VALUE=DURATION:PT1H
X-Robots-Tag:noindex
X-PUBLISHED-TTL:PT1H
BEGIN:VTIMEZONE
TZID:America/Los_Angeles
BEGIN:DAYLIGHT
TZOFFSETFROM:-0800
TZOFFSETTO:-0700
TZNAME:PDT
DTSTART:20240310T100000
END:DAYLIGHT
BEGIN:STANDARD
TZOFFSETFROM:-0700
TZOFFSETTO:-0800
TZNAME:PST
DTSTART:20241103T090000
END:STANDARD
BEGIN:DAYLIGHT
TZOFFSETFROM:-0800
TZOFFSETTO:-0700
TZNAME:PDT
DTSTART:20250309T100000
END:DAYLIGHT
BEGIN:STANDARD
TZOFFSETFROM:-0700
TZOFFSETTO:-0800
TZNAME:PST
DTSTART:20251102T090000
END:STANDARD
BEGIN:DAYLIGHT
TZOFFSETFROM:-0800
TZOFFSETTO:-0700
TZNAME:PDT
DTSTART:20260308T100000
END:DAYLIGHT
BEGIN:STANDARD
TZOFFSETFROM:-0700
TZOFFSETTO:-0800
TZNAME:PST
DTSTART:20261101T090000
END:STANDARD
END:VTIMEZONE
BEGIN:VEVENT
DTSTART;TZID=America/Los_Angeles:20250630T084500
DTEND;TZID=America/Los_Angeles:20250630T150000
DTSTAMP:20260425T191132
CREATED:20250205T190533Z
LAST-MODIFIED:20250213T190606Z
UID:10005898-1751273100-1751295600@chessplayer.com
SUMMARY:June Camp Four\, Redmond
DESCRIPTION:June Camp Four\, Redmond\nJune 30 – July 2\, Monday – Wednesday\n\nWe have a variety of fun chess activities: solving chess puzzles\, learning cool openings\, solving tricky tactics\, mastering fundamental endgames\, playing casual games between students\, and tournament games immediately analyzed by a chess master! \nCome for two or more days\, or half-days\, in any combination. \nRegister by Thursday May 1st for Early Bird 10% discount!\nSpace is limited to 18 in Redmond and 24 at Green Lake. \n\nAdvance registration is required.\nPrices subject to change without notice.\nChess Camp Questions: info@chessplayer.com or call Georgi 206-387-1253
URL:https://chessplayer.com/event/june-camp-four-2025/2025-06-30/
LOCATION:Redmond\, 4174 148th Ave NE\, Building I\, Suite M\, Redmond\, WA\, 98052\, United States
CATEGORIES:Camps,Redmond
END:VEVENT
BEGIN:VEVENT
DTSTART;TZID=America/Los_Angeles:20250630T174500
DTEND;TZID=America/Los_Angeles:20250630T184500
DTSTAMP:20260425T191132
CREATED:20250502T173713Z
LAST-MODIFIED:20250502T173713Z
UID:10006377-1751305500-1751309100@chessplayer.com
SUMMARY:Orlov Intermediate Monday\, Redmond
DESCRIPTION:We’ll hold this class when we have four interested students. Does Monday 5:45 pm work for you? Please email Coach Georgi Orlov at info@chessplayer.com to show interest and be on the wait list. \nMonday Intermediate Classes in Redmond\nA weekly class in person on Mondays by IM Georgi Orlov. \nThis class is designed for Intermediate level players (rating 1100 NW+ or 900+ USCF) and is very helpful for tournament players. Is this class for you? Click to read about how to choose classes. \nIn Person! This Wednesday class is held in our Redmond office at regular capacity. \nWe encourage all our intermediate students to create a free Chess.com account and join our Orlov Academy club. They offer puzzles\, games and our friendly online club tournaments. \nThanks\, Coach Orlov
URL:https://chessplayer.com/event/orlov-intermediate-monday-06-30/
LOCATION:Redmond\, 4174 148th Ave NE\, Building I\, Suite M\, Redmond\, WA\, 98052\, United States
CATEGORIES:Classes,Intermediate,Redmond
ATTACH;FMTTYPE=image/png:https://chessplayer.com/wp-content/uploads/2022/12/georgi-orlov-NWC_201107_cover.png
END:VEVENT
BEGIN:VEVENT
DTSTART;TZID=America/Los_Angeles:20250701T084500
DTEND;TZID=America/Los_Angeles:20250701T150000
DTSTAMP:20260425T191132
CREATED:20250205T190533Z
LAST-MODIFIED:20250213T190606Z
UID:10005899-1751359500-1751382000@chessplayer.com
SUMMARY:June Camp Four\, Redmond
DESCRIPTION:June Camp Four\, Redmond\nJune 30 – July 2\, Monday – Wednesday\n\nWe have a variety of fun chess activities: solving chess puzzles\, learning cool openings\, solving tricky tactics\, mastering fundamental endgames\, playing casual games between students\, and tournament games immediately analyzed by a chess master! \nCome for two or more days\, or half-days\, in any combination. \nRegister by Thursday May 1st for Early Bird 10% discount!\nSpace is limited to 18 in Redmond and 24 at Green Lake. \n\nAdvance registration is required.\nPrices subject to change without notice.\nChess Camp Questions: info@chessplayer.com or call Georgi 206-387-1253
URL:https://chessplayer.com/event/june-camp-four-2025/2025-07-01/
LOCATION:Redmond\, 4174 148th Ave NE\, Building I\, Suite M\, Redmond\, WA\, 98052\, United States
CATEGORIES:Camps,Redmond
END:VEVENT
BEGIN:VEVENT
DTSTART;TZID=America/Los_Angeles:20250701T174500
DTEND;TZID=America/Los_Angeles:20250701T183500
DTSTAMP:20260425T191132
CREATED:20250502T180004Z
LAST-MODIFIED:20250502T180004Z
UID:10006386-1751391900-1751394900@chessplayer.com
SUMMARY:Orlov Booster Tuesday\, Redmond
DESCRIPTION:A weekly class in person on Tuesdays by IM Georgi Orlov. \nOrlov Booster Tuesday enrollments are at capacity and we’re not accepting new students. If you have recently attended\, please continue signing up for more sessions! Otherwise\, we invite new students to try one of our other great Booster classes.\nBooster Classes are perfect for beginners that have played some chess\, know the moves\, have played a chess tournament\, and could use some direction to become an Intermediate player. \nIs this class for you? Click to read about how to choose classes. \nThis class is held at our Redmond office at regular capacity. \nWe encourage students to create a free ChessKid.com account to play and practice between lessons! \nAgain\, we love returning students in our Booster Tuesday class so go ahead and renew your registration. Sorry\, we’re not able to accommodate new students entering into this one class. \nThanks\, Coach Orlov\n206-387-1253
URL:https://chessplayer.com/event/orlov-booster-tuesday-07-01/
LOCATION:Redmond\, 4174 148th Ave NE\, Building I\, Suite M\, Redmond\, WA\, 98052\, United States
CATEGORIES:Booster,Classes,Redmond
ATTACH;FMTTYPE=image/png:https://chessplayer.com/wp-content/uploads/2022/12/georgi-orlov-NWC_201107_cover.png
END:VEVENT
BEGIN:VEVENT
DTSTART;TZID=America/Los_Angeles:20250702T084500
DTEND;TZID=America/Los_Angeles:20250702T150000
DTSTAMP:20260425T191132
CREATED:20250205T190533Z
LAST-MODIFIED:20250213T190606Z
UID:10005900-1751445900-1751468400@chessplayer.com
SUMMARY:June Camp Four\, Redmond
DESCRIPTION:June Camp Four\, Redmond\nJune 30 – July 2\, Monday – Wednesday\n\nWe have a variety of fun chess activities: solving chess puzzles\, learning cool openings\, solving tricky tactics\, mastering fundamental endgames\, playing casual games between students\, and tournament games immediately analyzed by a chess master! \nCome for two or more days\, or half-days\, in any combination. \nRegister by Thursday May 1st for Early Bird 10% discount!\nSpace is limited to 18 in Redmond and 24 at Green Lake. \n\nAdvance registration is required.\nPrices subject to change without notice.\nChess Camp Questions: info@chessplayer.com or call Georgi 206-387-1253
URL:https://chessplayer.com/event/june-camp-four-2025/2025-07-02/
LOCATION:Redmond\, 4174 148th Ave NE\, Building I\, Suite M\, Redmond\, WA\, 98052\, United States
CATEGORIES:Camps,Redmond
END:VEVENT
BEGIN:VEVENT
DTSTART;TZID=America/Los_Angeles:20250702T174500
DTEND;TZID=America/Los_Angeles:20250702T184500
DTSTAMP:20260425T191132
CREATED:20250502T192403Z
LAST-MODIFIED:20250502T192403Z
UID:10006395-1751478300-1751481900@chessplayer.com
SUMMARY:Orlov Intermediate Wednesday\, Redmond
DESCRIPTION:Wednesday Intermediate Classes in Redmond\nA weekly class in person on Wednesdays by IM Georgi Orlov. \nThis class is designed for Intermediate level players and is very helpful for tournament players. Is this class for you? Click to read about how to choose classes. \nIn Person! This Wednesday class is held in our Redmond office at regular capacity. \nWe encourage all our intermediate students to create a free Chess.com account and join our Orlov Academy club. They offer puzzles\, games and our friendly online club tournaments. \nThanks\, Coach Orlov
URL:https://chessplayer.com/event/orlov-intermediate-wednesday-07-02/
LOCATION:Redmond\, 4174 148th Ave NE\, Building I\, Suite M\, Redmond\, WA\, 98052\, United States
CATEGORIES:Classes,Intermediate,Redmond
ATTACH;FMTTYPE=image/png:https://chessplayer.com/wp-content/uploads/2022/12/georgi-orlov-NWC_201107_cover.png
END:VEVENT
BEGIN:VEVENT
DTSTART;VALUE=DATE:20250704
DTEND;VALUE=DATE:20250705
DTSTAMP:20260425T191132
CREATED:20250205T191231Z
LAST-MODIFIED:20251229T153042Z
UID:10005901-1751587200-1751673599@chessplayer.com
SUMMARY:Independence Day 2025
DESCRIPTION:Our offices are closed today.
URL:https://chessplayer.com/event/independence-day-2025/
LOCATION:WA
CATEGORIES:After-School Clubs,Camps,Classes,Green Lake,Holiday,Redmond
END:VEVENT
BEGIN:VEVENT
DTSTART;TZID=America/Los_Angeles:20250705T143000
DTEND;TZID=America/Los_Angeles:20250705T152000
DTSTAMP:20260425T191132
CREATED:20250503T004453Z
LAST-MODIFIED:20250503T004453Z
UID:10006420-1751725800-1751728800@chessplayer.com
SUMMARY:Orlov Booster Saturday\, Redmond
DESCRIPTION:Orlov Booster Saturday\, Redmond\nA weekly class on Saturdays held in-person in the Redmond OCA office conducted by IM Georgi Orlov. \nBooster Classes are perfect for beginners that have played some chess\, know the moves\, have played a chess tournament\, and could use some direction to become an Intermediate player. \nIs this class for you? Click to read about how to choose classes. \nOnce in a while\, in case a WCF event is held in our Redmond office space on a Saturday\, please join us for a make-up session the following Tuesday. \nIn the rare situation this Booster class is held online\, we will use ChessKid.com. I’ve created free memberships for people. Students may use these accounts to practice their chess and play games as much as they like! These free accounts allow them to play Fast Chess games\, solve 3 daily puzzles\, access beginner content\, read ChessKid articles\, and play against the infamous Bots. If you would like full\, unlimited access to the whole site with all of its bells and whistles\, consider upgrading to a Gold membership. \nThanks\, Coach Orlov\n206-387-1253
URL:https://chessplayer.com/event/orlov-booster-saturday-07-05/
LOCATION:Redmond\, 4174 148th Ave NE\, Building I\, Suite M\, Redmond\, WA\, 98052\, United States
CATEGORIES:Booster,Classes,Redmond
ATTACH;FMTTYPE=image/png:https://chessplayer.com/wp-content/uploads/2022/12/georgi-orlov-NWC_201107_cover.png
END:VEVENT
END:VCALENDAR