BEGIN:VCALENDAR
VERSION:2.0
PRODID:-//Orlov Chess Academy - ECPv6.15.11//NONSGML v1.0//EN
CALSCALE:GREGORIAN
METHOD:PUBLISH
X-ORIGINAL-URL:https://chessplayer.com
X-WR-CALDESC:Events for Orlov Chess Academy
REFRESH-INTERVAL;VALUE=DURATION:PT1H
X-Robots-Tag:noindex
X-PUBLISHED-TTL:PT1H
BEGIN:VTIMEZONE
TZID:America/Los_Angeles
BEGIN:DAYLIGHT
TZOFFSETFROM:-0800
TZOFFSETTO:-0700
TZNAME:PDT
DTSTART:20250309T100000
END:DAYLIGHT
BEGIN:STANDARD
TZOFFSETFROM:-0700
TZOFFSETTO:-0800
TZNAME:PST
DTSTART:20251102T090000
END:STANDARD
BEGIN:DAYLIGHT
TZOFFSETFROM:-0800
TZOFFSETTO:-0700
TZNAME:PDT
DTSTART:20260308T100000
END:DAYLIGHT
BEGIN:STANDARD
TZOFFSETFROM:-0700
TZOFFSETTO:-0800
TZNAME:PST
DTSTART:20261101T090000
END:STANDARD
BEGIN:DAYLIGHT
TZOFFSETFROM:-0800
TZOFFSETTO:-0700
TZNAME:PDT
DTSTART:20270314T100000
END:DAYLIGHT
BEGIN:STANDARD
TZOFFSETFROM:-0700
TZOFFSETTO:-0800
TZNAME:PST
DTSTART:20271107T090000
END:STANDARD
END:VTIMEZONE
BEGIN:VEVENT
DTSTART;TZID=America/Los_Angeles:20260611T153500
DTEND;TZID=America/Los_Angeles:20260611T163500
DTSTAMP:20260424T174253
CREATED:20260226T024551Z
LAST-MODIFIED:20260226T025112Z
UID:10007761-1781192100-1781195700@chessplayer.com
SUMMARY:Tambark Creek Spring 2026
DESCRIPTION:Grades: 1-5\nWhen: 3:35 – 4:35 pm Thursdays\nWhere: Library \nSpring Series: 8 Sessions \n\n\n\nApril\n.\n.\n23\n30\n\n\nMay\n7\n14\n21\n28\n\n\nJune\n4\n11\n.\n.\n\n\n\nCost: $172 for 8 classes\nJoin your classmates to play chess together!\nThis is a popular activity with limited space\, so sign up early!\nKnowledge of chess moves and rules is recommended. \nTrain your memory\, focus and plan. Learn chess tactics\, solve puzzles\,   play competitive and just-for-fun games! All materials are provided\, just come ready to learn! \nRefunds through 2nd class\, less $37\, no refunds after.\nMinimum of 8 students to hold class\, maximum 18 students.\nSign up today! First come\, first served! \nChess class questions to: info@chessplayer.com\, 206-387-1253
URL:https://chessplayer.com/event/tambark-creek-spring-2026/2026-06-11/
LOCATION:Tambark Creek Elementary\, 4419 180th Street SE\, Bothell\, WA\, 98012\, United States
CATEGORIES:After-School Clubs
END:VEVENT
END:VCALENDAR